BEGIN:VCALENDAR
VERSION:2.0
PRODID:-//Áras Éanna - ECPv6.15.17//NONSGML v1.0//EN
CALSCALE:GREGORIAN
METHOD:PUBLISH
X-ORIGINAL-URL:https://aras-eanna.ie
X-WR-CALDESC:Events for Áras Éanna
REFRESH-INTERVAL;VALUE=DURATION:PT1H
X-Robots-Tag:noindex
X-PUBLISHED-TTL:PT1H
BEGIN:VTIMEZONE
TZID:UTC
BEGIN:STANDARD
TZOFFSETFROM:+0000
TZOFFSETTO:+0000
TZNAME:UTC
DTSTART:20180101T000000
END:STANDARD
END:VTIMEZONE
BEGIN:VEVENT
DTSTART;VALUE=DATE:20190316
DTEND;VALUE=DATE:20190317
DTSTAMP:20260423T095112
CREATED:20190515T143439Z
LAST-MODIFIED:20190516T162449Z
UID:15565-1552694400-1552780799@aras-eanna.ie
SUMMARY:An t-Earrach Thiar – Féile an Phobail\, Inis Oírr
DESCRIPTION:An tAsal Uaigneach\, Seó puipéad curtha ar stáitse ag Scoil Naisiúnta Naohm Caomhán faoi stiúir Des Dillon. \nTaispeántas ealaíne saothar ranga ealaíne Inis Oírr \nTaispeántas grianghrafadóireachta saothar Club Ceamra Inis Oírr \nCeol Inis Oírr – seisiún ceoil
URL:https://aras-eanna.ie/event/an-t-earrach-thiar-feile-an-phobail-inis-oirr/
CATEGORIES:Ceardlanna,Events,Exhibition
ATTACH;FMTTYPE=image/jpeg:https://aras-eanna.ie/wp-content/uploads/2017/12/inisoirrartists.jpg
END:VEVENT
END:VCALENDAR